BEGIN:VCALENDAR
VERSION:2.0
PRODID:-//Alba Flora - ECPv5.9.1//NONSGML v1.0//EN
CALSCALE:GREGORIAN
METHOD:PUBLISH
X-WR-CALNAME:Alba Flora
X-ORIGINAL-URL:https://www.albaflora.sk
X-WR-CALDESC:Udalosti pre Alba Flora
BEGIN:VTIMEZONE
TZID:Europe/Bratislava
BEGIN:DAYLIGHT
TZOFFSETFROM:+0100
TZOFFSETTO:+0200
TZNAME:CEST
DTSTART:20260329T010000
END:DAYLIGHT
BEGIN:STANDARD
TZOFFSETFROM:+0200
TZOFFSETTO:+0100
TZNAME:CET
DTSTART:20261025T010000
END:STANDARD
END:VTIMEZONE
BEGIN:VEVENT
DTSTART;VALUE=DATE:20260510
DTEND;VALUE=DATE:20260511
DTSTAMP:20260425T162115
CREATED:20260421T121800Z
LAST-MODIFIED:20260421T121800Z
UID:18088-1778371200-1778457599@www.albaflora.sk
SUMMARY:Svatojurský rínek
DESCRIPTION:
URL:https://www.albaflora.sk/trh/svatojursky-rinek/
LOCATION:Svätý Jur\, Scheidlinova záhrada
END:VEVENT
END:VCALENDAR